BEGIN:VCALENDAR
VERSION:2.0
PRODID:-//Blackwood Business Directory - ECPv6.15.20//NONSGML v1.0//EN
CALSCALE:GREGORIAN
METHOD:PUBLISH
X-WR-CALNAME:Blackwood Business Directory
X-ORIGINAL-URL:https://blackwoodbusinessdirectory.com.au
X-WR-CALDESC:Events for Blackwood Business Directory
REFRESH-INTERVAL;VALUE=DURATION:PT1H
X-Robots-Tag:noindex
X-PUBLISHED-TTL:PT1H
BEGIN:VTIMEZONE
TZID:Australia/Adelaide
BEGIN:STANDARD
TZOFFSETFROM:+1030
TZOFFSETTO:+0930
TZNAME:ACST
DTSTART:20250405T163000
END:STANDARD
BEGIN:DAYLIGHT
TZOFFSETFROM:+0930
TZOFFSETTO:+1030
TZNAME:ACDT
DTSTART:20251004T163000
END:DAYLIGHT
BEGIN:STANDARD
TZOFFSETFROM:+1030
TZOFFSETTO:+0930
TZNAME:ACST
DTSTART:20260404T163000
END:STANDARD
BEGIN:DAYLIGHT
TZOFFSETFROM:+0930
TZOFFSETTO:+1030
TZNAME:ACDT
DTSTART:20261003T163000
END:DAYLIGHT
BEGIN:STANDARD
TZOFFSETFROM:+1030
TZOFFSETTO:+0930
TZNAME:ACST
DTSTART:20270403T163000
END:STANDARD
BEGIN:DAYLIGHT
TZOFFSETFROM:+0930
TZOFFSETTO:+1030
TZNAME:ACDT
DTSTART:20271002T163000
END:DAYLIGHT
END:VTIMEZONE
BEGIN:VEVENT
DTSTART;TZID=Australia/Adelaide:20260423T100000
DTEND;TZID=Australia/Adelaide:20260423T100000
DTSTAMP:20260422T182635
CREATED:20210829T022539Z
LAST-MODIFIED:20260326T011904Z
UID:2741-1776938400-1776938400@blackwoodbusinessdirectory.com.au
SUMMARY:Combined Probus Club of Coromandel Valley
DESCRIPTION:Meetings are held at St. Johns Anglican Church Hall\, 337 Main Road\, Coromandel Valley.\nWe are a medium size Club with maximum membership of 75. Each meeting we have a guest speaker and each month an outing is planned as well as ‘gals’ and ‘guys’ coffee mornings. So there are many opportunities to get to know us.\nNew members most welcome. Phone Bob on 0418 836 414 or Heather on 0448 351 880.
URL:https://blackwoodbusinessdirectory.com.au/event/combined-probus-club-of-coromandel-valley/
END:VEVENT
BEGIN:VEVENT
DTSTART;TZID=Australia/Adelaide:20260426T130000
DTEND;TZID=Australia/Adelaide:20260426T160000
DTSTAMP:20260422T182635
CREATED:20171228T004325Z
LAST-MODIFIED:20260326T011735Z
UID:1574-1777208400-1777219200@blackwoodbusinessdirectory.com.au
SUMMARY:Joans Patch : A Garden for the Community2
DESCRIPTION:Meet at Joan’s Pantry\, Watahuna Avenue\, Hawthorndene from 2-5pm to share ideas\, plant seedlings and tend to community garden. New members welcome. Enquiries to Deb on 0419 824 787 or email: jpkitchengarden@gmail.com
URL:https://blackwoodbusinessdirectory.com.au/event/joans-patch-a-garden-for-the-community2/
ORGANIZER;CN="Deb":MAILTO:jpkitchengarden@gmail.com
END:VEVENT
BEGIN:VEVENT
DTSTART;TZID=Australia/Adelaide:20260427T103000
DTEND;TZID=Australia/Adelaide:20260427T170000
DTSTAMP:20260422T182635
CREATED:20241028T040411Z
LAST-MODIFIED:20260326T011811Z
UID:3328-1777285800-1777309200@blackwoodbusinessdirectory.com.au
SUMMARY:Mitcham Hills Combined Probus
DESCRIPTION:If you live in Blackwood\, Belair\, Bellevue Heights or nearby suburbs … this is for you. \nCome and enjoy fun\, fellowship and friendship with fellow retirees. \nMeetings are held at Club Marion\, 262 Sturt Road\, Marion from 10:30am on 4th Monday of each month. \nPhone Christine on 0400 809 704 or visit www.probussouthpacific.org/microsites/mitchamhills for more information.
URL:https://blackwoodbusinessdirectory.com.au/event/mitcham-hills-combined-probus-2/
LOCATION:Club Marion\, 262 Sturt Road\, Marion\, Australia
END:VEVENT
BEGIN:VEVENT
DTSTART;TZID=Australia/Adelaide:20260427T193000
DTEND;TZID=Australia/Adelaide:20260427T210000
DTSTAMP:20260422T182635
CREATED:20171228T005402Z
LAST-MODIFIED:20260326T011833Z
UID:1584-1777318200-1777323600@blackwoodbusinessdirectory.com.au
SUMMARY:Blackwood Floral Art Club
DESCRIPTION:Held at Blackwood Uniting Church from 7.30-9pm. All welcome but must email attendance in advance – no experience required. View activities of club at www.blackwoodfloralart.blogspot.com.au
URL:https://blackwoodbusinessdirectory.com.au/event/blackwood-floral-art-club/
LOCATION:Blackwood Uniting Church\, 266 Main Road\, Blackwood\, 5051
END:VEVENT
BEGIN:VEVENT
DTSTART;TZID=Australia/Adelaide:20260430T190000
DTEND;TZID=Australia/Adelaide:20260430T190000
DTSTAMP:20260422T182635
CREATED:20240227T234524Z
LAST-MODIFIED:20260415T003546Z
UID:3196-1777575600-1777575600@blackwoodbusinessdirectory.com.au
SUMMARY:Junior Field Naturalists SA
DESCRIPTION:Aimed at nature enthusiasts aged from 6 to 14 years with accompanying parents. Meetings held monthly on last Tuesday with guest speakers and field trips.\nMeet in Bellevue Heights Primary School gym at 7pm – finishing around 8.15pm.\nYou are welcome to come along and try before joining. \nPhone Rona on 0419 827 723 for more … email: info@jfnsa.com.au\nwww.jfnsa.com.au
URL:https://blackwoodbusinessdirectory.com.au/event/junior-field-naturalists-sa/
END:VEVENT
END:VCALENDAR